Package: rtracklayer Version: 1.67.0 Command: /home/rapidbuild/bbs-3.21-bioc-rapid/R/bin/R CMD check --install=check:rtracklayer.install-out.txt --library=/home/rapidbuild/bbs-3.21-bioc-rapid/R/site-library --timings rtracklayer_1.67.0.tar.gz StartedAt: 2025-02-11 09:34:01 -0500 (Tue, 11 Feb 2025) EndedAt: 2025-02-11 09:39:17 -0500 (Tue, 11 Feb 2025) EllapsedTime: 316.0 seconds RetCode: 0 Status: WARNINGS CheckDir: rtracklayer.Rcheck Warnings: 5