Package: scran
Version: 1.35.0
Command: /home/rapidbuild/bbs-3.21-bioc-rapid/R/bin/R CMD INSTALL scran
StartedAt: 2025-02-21 12:19:43 -0500 (Fri, 21 Feb 2025)
EndedAt: 2025-02-21 12:20:44 -0500 (Fri, 21 Feb 2025)
EllapsedTime: 61.0 seconds
RetCode: 0
Status: OK