Package: scrapper Version: 1.1.12 Command: /home/rapidbuild/bbs-3.21-bioc-rapid/R/bin/R CMD build --keep-empty-dirs --no-resave-data scrapper StartedAt: 2025-02-10 07:38:01 -0500 (Mon, 10 Feb 2025) EndedAt: 2025-02-10 07:41:11 -0500 (Mon, 10 Feb 2025) EllapsedTime: 190.0 seconds RetCode: 1 Status: ERROR PackageFile: None PackageFileSize: NA