Package: scrapper Version: 1.1.12 Command: /home/rapidbuild/bbs-3.21-bioc-rapid/R/bin/R CMD INSTALL scrapper StartedAt: 2025-02-05 06:18:26 -0500 (Wed, 05 Feb 2025) EndedAt: 2025-02-05 06:23:42 -0500 (Wed, 05 Feb 2025) EllapsedTime: 315.7 seconds RetCode: 0 Status: OK