############################################################################## ############################################################################## ### ### Running command: ### ### /home/rapidbuild/bbs-3.21-bioc-rapid/R/bin/R CMD check --install=check:sesame.install-out.txt --library=/home/rapidbuild/bbs-3.21-bioc-rapid/R/site-library --timings sesame_1.25.3.tar.gz ### ############################################################################## ############################################################################## * using log directory ‘/media/volume/teran2_disk/rapidbuild/bbs-3.21-bioc-rapid/meat/sesame.Rcheck’ * using R Under development (unstable) (2025-01-20 r87609) * using platform: x86_64-pc-linux-gnu * R was compiled by gcc (Ubuntu 13.3.0-6ubuntu2~24.04) 13.3.0 GNU Fortran (Ubuntu 13.3.0-6ubuntu2~24.04) 13.3.0 * running under: Ubuntu 24.04.1 LTS * using session charset: UTF-8 * checking for file ‘sesame/DESCRIPTION’ ... OK * checking extension type ... Package * this is package ‘sesame’ version ‘1.25.3’ * package encoding: UTF-8 * checking package namespace information ... OK * checking package dependencies ... OK * checking if this is a source package ... OK * checking if there is a namespace ... OK * checking for hidden files and directories ... OK * checking for portable file names ... OK * checking for sufficient/correct file permissions ... OK * checking whether package ‘sesame’ can be installed ... OK * checking installed package size ... OK * checking package directory ... OK * checking ‘build’ directory ... OK * checking DESCRIPTION meta-information ... OK * checking top-level files ... OK * checking for left-over files ... OK * checking index information ... OK * checking package subdirectories ... OK * checking code files for non-ASCII characters ... OK * checking R files for syntax errors ... OK * checking whether the package can be loaded ... OK * checking whether the package can be loaded with stated dependencies ... OK * checking whether the package can be unloaded cleanly ... OK * checking whether the namespace can be loaded with stated dependencies ... OK * checking whether the namespace can be unloaded cleanly ... OK * checking loading without being on the library search path ... OK * checking whether startup messages can be suppressed ... OK * checking dependencies in R code ... OK * checking S3 generic/method consistency ... OK * checking replacement functions ... OK * checking foreign function calls ... OK * checking R code for possible problems ... OK * checking Rd files ... OK * checking Rd metadata ... OK * checking Rd cross-references ... OK * checking for missing documentation entries ... OK * checking for code/documentation mismatches ... OK * checking Rd \usage sections ... OK * checking Rd contents ... OK * checking for unstated dependencies in examples ... OK * checking files in ‘vignettes’ ... OK * checking examples ... OK Examples with CPU (user + system) or elapsed time > 5s user system elapsed imputeBetasByGenomicNeighbors 25.448 0.660 26.110 inferSex 17.241 0.175 17.420 imputeBetas 13.521 0.388 13.911 inferSpecies 12.865 0.846 13.712 sesameQC_calcStats 13.014 0.012 13.029 sesameQC_plotHeatSNPs 12.023 0.023 12.051 ELBAR 10.267 0.167 10.438 diffRefSet 9.801 0.161 9.965 sesameQC_plotBar 8.790 0.106 8.896 compareReference 8.010 0.172 8.185 getRefSet 8.067 0.064 8.132 compareMouseStrainReference 7.704 0.151 7.858 matchDesign 7.251 0.045 7.304 sesameQC_plotBetaByDesign 7.113 0.002 7.118 DMR 5.888 0.129 6.020 visualizeGene 5.472 0.101 5.579 estimateLeukocyte 5.377 0.106 5.488 inferStrain 4.784 0.510 5.295 DML 4.796 0.250 5.048 * checking for unstated dependencies in ‘tests’ ... OK * checking tests ... Running ‘testthat.R’ OK * checking for unstated dependencies in vignettes ... OK * checking package vignettes ... OK * checking re-building of vignette outputs ... OK * checking PDF version of manual ... OK * DONE Status: OK