Package: sesame Version: 1.25.3 Command: /home/rapidbuild/bbs-3.21-bioc-rapid/R/bin/R CMD check --install=check:sesame.install-out.txt --library=/home/rapidbuild/bbs-3.21-bioc-rapid/R/site-library --timings sesame_1.25.3.tar.gz StartedAt: 2025-02-09 09:39:38 -0500 (Sun, 09 Feb 2025) EndedAt: 2025-02-09 09:53:18 -0500 (Sun, 09 Feb 2025) EllapsedTime: 820.5 seconds RetCode: 0 Status: OK CheckDir: sesame.Rcheck Warnings: 0