Package: sesame Version: 1.25.3 Command: /home/rapidbuild/bbs-3.21-bioc-rapid/R/bin/R CMD INSTALL sesame StartedAt: 2025-02-04 12:18:51 -0500 (Tue, 04 Feb 2025) EndedAt: 2025-02-04 12:19:20 -0500 (Tue, 04 Feb 2025) EllapsedTime: 28.8 seconds RetCode: 0 Status: OK