Package: snpStats Version: 1.57.0 Command: /home/rapidbuild/bbs-3.21-bioc-rapid/R/bin/R CMD INSTALL snpStats StartedAt: 2025-02-10 06:10:57 -0500 (Mon, 10 Feb 2025) EndedAt: 2025-02-10 06:11:13 -0500 (Mon, 10 Feb 2025) EllapsedTime: 16.0 seconds RetCode: 0 Status: OK