Package: sparseMatrixStats Version: 1.19.0 Command: /home/rapidbuild/bbs-3.21-bioc-rapid/R/bin/R CMD build --keep-empty-dirs --no-resave-data sparseMatrixStats StartedAt: 2025-02-05 07:40:49 -0500 (Wed, 05 Feb 2025) EndedAt: 2025-02-05 07:41:16 -0500 (Wed, 05 Feb 2025) EllapsedTime: 27.3 seconds RetCode: 0 Status: OK PackageFile: sparseMatrixStats_1.19.0.tar.gz PackageFileSize: 687.7 KiB