Package: sparseMatrixStats Version: 1.19.0 Command: /home/rapidbuild/bbs-3.21-bioc-rapid/R/bin/R CMD check --install=check:sparseMatrixStats.install-out.txt --library=/home/rapidbuild/bbs-3.21-bioc-rapid/R/site-library --timings sparseMatrixStats_1.19.0.tar.gz StartedAt: 2025-02-05 09:34:12 -0500 (Wed, 05 Feb 2025) EndedAt: 2025-02-05 09:34:55 -0500 (Wed, 05 Feb 2025) EllapsedTime: 43.3 seconds RetCode: 0 Status: OK CheckDir: sparseMatrixStats.Rcheck Warnings: 0