Package: supraHex Version: 1.45.1 Command: /home/rapidbuild/bbs-3.21-bioc-rapid/R/bin/R CMD build --keep-empty-dirs --no-resave-data supraHex StartedAt: 2025-02-04 13:36:36 -0500 (Tue, 04 Feb 2025) EndedAt: 2025-02-04 13:36:45 -0500 (Tue, 04 Feb 2025) EllapsedTime: 8.3 seconds RetCode: 1 Status: ERROR PackageFile: None PackageFileSize: NA