Package: supraHex Version: 1.45.1 Command: /home/rapidbuild/bbs-3.21-bioc-rapid/R/bin/R CMD INSTALL supraHex StartedAt: 2025-02-04 12:13:23 -0500 (Tue, 04 Feb 2025) EndedAt: 2025-02-04 12:13:29 -0500 (Tue, 04 Feb 2025) EllapsedTime: 6.0 seconds RetCode: 0 Status: OK