Package: vsn Version: 3.75.0 Command: /home/rapidbuild/bbs-3.21-bioc-rapid/R/bin/R CMD check --install=check:vsn.install-out.txt --library=/home/rapidbuild/bbs-3.21-bioc-rapid/R/site-library --timings vsn_3.75.0.tar.gz StartedAt: 2025-02-10 09:47:35 -0500 (Mon, 10 Feb 2025) EndedAt: 2025-02-10 09:49:06 -0500 (Mon, 10 Feb 2025) EllapsedTime: 91.6 seconds RetCode: 0 Status: OK CheckDir: vsn.Rcheck Warnings: 0