Package: widgetTools Version: 1.85.0 Command: /home/rapidbuild/bbs-3.21-bioc-rapid/R/bin/R CMD build --keep-empty-dirs --no-resave-data widgetTools StartedAt: 2025-02-05 07:45:20 -0500 (Wed, 05 Feb 2025) EndedAt: 2025-02-05 07:45:26 -0500 (Wed, 05 Feb 2025) EllapsedTime: 6.3 seconds RetCode: 0 Status: OK PackageFile: widgetTools_1.85.0.tar.gz PackageFileSize: 227.3 KiB