Package: zlibbioc Version: 1.53.0 Command: /home/rapidbuild/bbs-3.21-bioc-rapid/R/bin/R CMD build --keep-empty-dirs --no-resave-data zlibbioc StartedAt: 2025-02-06 07:46:47 -0500 (Thu, 06 Feb 2025) EndedAt: 2025-02-06 07:46:53 -0500 (Thu, 06 Feb 2025) EllapsedTime: 6.0 seconds RetCode: 0 Status: OK PackageFile: zlibbioc_1.53.0.tar.gz PackageFileSize: 373.9 KiB