Package: OSCA.advanced Version: 1.14.0 Command: rm -rf OSCA.advanced.book && mkdir OSCA.advanced.book && /home/biocbuild/BBS/utils/deploy_book.py OSCA.advanced_1.14.0.tar.gz OSCA.advanced.book StartedAt: 2025-02-07 08:31:28 -0500 (Fri, 07 Feb 2025) EndedAt: 2025-02-07 08:31:30 -0500 (Fri, 07 Feb 2025) EllapsedTime: 1.9 seconds RetCode: 0 Status: OK DeployDestDir: OSCA.advanced.book Warnings: 0