Package: OSCA.intro Version: 1.14.2 Maintainer: Ludwig Geistlinger MaintainerEmail: ludwig_geistlinger at hms.harvard.edu git_url: https://git.bioconductor.org/packages/OSCA.intro git_branch: RELEASE_3_20 git_last_commit: df803df git_last_commit_date: 2025-01-08 16:52:49 -0500 (Wed, 08 Jan 2025)