Package: OSCA.intro Version: 1.14.2 Command: rm -rf OSCA.intro.book && mkdir OSCA.intro.book && /home/biocbuild/BBS/utils/deploy_book.py OSCA.intro_1.14.2.tar.gz OSCA.intro.book StartedAt: 2025-02-07 08:31:28 -0500 (Fri, 07 Feb 2025) EndedAt: 2025-02-07 08:31:31 -0500 (Fri, 07 Feb 2025) EllapsedTime: 2.5 seconds RetCode: 0 Status: OK DeployDestDir: OSCA.intro.book Warnings: 0