Package: OSCA.intro Version: 1.14.2 Command: /home/biocbuild/bbs-3.20-bioc/R/bin/R CMD INSTALL OSCA.intro StartedAt: 2025-02-07 06:15:07 -0500 (Fri, 07 Feb 2025) EndedAt: 2025-02-07 06:15:38 -0500 (Fri, 07 Feb 2025) EllapsedTime: 31.0 seconds RetCode: 0 Status: OK