Package: AHEnsDbs Version: 1.6.0 Command: /home/biocbuild/bbs-3.20-bioc/R/bin/R CMD build --keep-empty-dirs --no-resave-data AHEnsDbs StartedAt: 2025-02-05 06:31:09 -0500 (Wed, 05 Feb 2025) EndedAt: 2025-02-05 06:32:07 -0500 (Wed, 05 Feb 2025) EllapsedTime: 58.2 seconds RetCode: 0 Status: OK PackageFile: AHEnsDbs_1.6.0.tar.gz PackageFileSize: 502.2 KiB