Package: AHEnsDbs Version: 1.6.0 Command: /home/biocbuild/bbs-3.20-bioc/R/bin/R CMD INSTALL AHEnsDbs StartedAt: 2025-02-05 06:30:23 -0500 (Wed, 05 Feb 2025) EndedAt: 2025-02-05 06:30:49 -0500 (Wed, 05 Feb 2025) EllapsedTime: 25.1 seconds RetCode: 0 Status: OK