Package: AHPubMedDbs Version: 1.8.0 Command: /home/biocbuild/bbs-3.20-bioc/R/bin/R CMD INSTALL AHPubMedDbs StartedAt: 2025-02-05 06:30:17 -0500 (Wed, 05 Feb 2025) EndedAt: 2025-02-05 06:30:18 -0500 (Wed, 05 Feb 2025) EllapsedTime: 1.2 seconds RetCode: 0 Status: OK