Package: CTCF Version: 0.99.11 Command: /home/biocbuild/bbs-3.20-bioc/R/bin/R CMD build --keep-empty-dirs --no-resave-data CTCF StartedAt: 2025-02-05 06:31:09 -0500 (Wed, 05 Feb 2025) EndedAt: 2025-02-05 06:32:20 -0500 (Wed, 05 Feb 2025) EllapsedTime: 70.9 seconds RetCode: 0 Status: OK PackageFile: CTCF_0.99.11.tar.gz PackageFileSize: 3.011 MiB