Package: CTCF Version: 0.99.11 Command: /home/biocbuild/bbs-3.20-bioc/R/bin/R CMD check --install=check:CTCF.install-out.txt --library=/home/biocbuild/bbs-3.20-bioc/R/site-library --timings CTCF_0.99.11.tar.gz StartedAt: 2025-02-05 06:33:42 -0500 (Wed, 05 Feb 2025) EndedAt: 2025-02-05 06:35:03 -0500 (Wed, 05 Feb 2025) EllapsedTime: 80.8 seconds RetCode: 0 Status: OK CheckDir: CTCF.Rcheck Warnings: 0