Package: HPO.db Version: 0.99.2 Command: /home/biocbuild/bbs-3.20-bioc/R/bin/R CMD INSTALL HPO.db StartedAt: 2025-02-05 06:30:09 -0500 (Wed, 05 Feb 2025) EndedAt: 2025-02-05 06:30:25 -0500 (Wed, 05 Feb 2025) EllapsedTime: 15.3 seconds RetCode: 1 Status: ERROR