Package: org.Mxanthus.db Version: 1.0.27 Command: /home/biocbuild/bbs-3.20-bioc/R/bin/R CMD build --keep-empty-dirs --no-resave-data org.Mxanthus.db StartedAt: 2025-02-12 06:32:25 -0500 (Wed, 12 Feb 2025) EndedAt: 2025-02-12 06:33:00 -0500 (Wed, 12 Feb 2025) EllapsedTime: 35.6 seconds RetCode: 0 Status: OK PackageFile: org.Mxanthus.db_1.0.27.tar.gz PackageFileSize: 420.6 KiB