Package: synaptome.data Version: 0.99.6 Command: /home/biocbuild/bbs-3.20-bioc/R/bin/R CMD build --keep-empty-dirs --no-resave-data synaptome.data StartedAt: 2025-02-05 06:32:34 -0500 (Wed, 05 Feb 2025) EndedAt: 2025-02-05 06:32:53 -0500 (Wed, 05 Feb 2025) EllapsedTime: 19.1 seconds RetCode: 0 Status: OK PackageFile: synaptome.data_0.99.6.tar.gz PackageFileSize: 302.6 KiB