Package: synaptome.data Version: 0.99.6 Command: /home/biocbuild/bbs-3.20-bioc/R/bin/R CMD check --install=check:synaptome.data.install-out.txt --library=/home/biocbuild/bbs-3.20-bioc/R/site-library --timings synaptome.data_0.99.6.tar.gz StartedAt: 2025-02-05 06:35:23 -0500 (Wed, 05 Feb 2025) EndedAt: 2025-02-05 06:36:59 -0500 (Wed, 05 Feb 2025) EllapsedTime: 96.5 seconds RetCode: 0 Status: OK CheckDir: synaptome.data.Rcheck Warnings: 0