Package: synaptome.data Version: 0.99.6 Command: /home/biocbuild/bbs-3.20-bioc/R/bin/R CMD INSTALL synaptome.data StartedAt: 2025-02-05 06:30:10 -0500 (Wed, 05 Feb 2025) EndedAt: 2025-02-05 06:30:23 -0500 (Wed, 05 Feb 2025) EllapsedTime: 13.7 seconds RetCode: 0 Status: OK