Package: AffymetrixDataTestFiles Version: 0.44.0 Maintainer: Henrik Bengtsson MaintainerEmail: henrikb at braju.com git_url: https://git.bioconductor.org/packages/AffymetrixDataTestFiles git_branch: RELEASE_3_20 git_last_commit: 8d93cb2 git_last_commit_date: 2024-10-29 09:24:37 -0500 (Tue, 29 Oct 2024)