Package: Affymoe4302Expr Version: 1.44.0 Command: /home/biocbuild/bbs-3.20-bioc/R/bin/R CMD build --keep-empty-dirs --no-resave-data Affymoe4302Expr StartedAt: 2025-01-30 11:06:28 -0500 (Thu, 30 Jan 2025) EndedAt: 2025-01-30 11:06:57 -0500 (Thu, 30 Jan 2025) EllapsedTime: 28.4 seconds RetCode: 0 Status: OK PackageFile: Affymoe4302Expr_1.44.0.tar.gz PackageFileSize: 417.6 MiB