Package: AmpAffyExample Version: 1.46.0 Command: /home/biocbuild/bbs-3.20-bioc/R/bin/R CMD check --install=check:AmpAffyExample.install-out.txt --library=/home/biocbuild/bbs-3.20-bioc/R/site-library --timings AmpAffyExample_1.46.0.tar.gz StartedAt: 2025-01-30 11:45:47 -0500 (Thu, 30 Jan 2025) EndedAt: 2025-01-30 11:46:33 -0500 (Thu, 30 Jan 2025) EllapsedTime: 46.3 seconds RetCode: 0 Status: WARNINGS CheckDir: AmpAffyExample.Rcheck Warnings: 1