Package: AshkenazimSonChr21 Version: 1.36.0 Command: /home/biocbuild/bbs-3.20-bioc/R/bin/R CMD build --keep-empty-dirs --no-resave-data AshkenazimSonChr21 StartedAt: 2025-02-06 11:05:55 -0500 (Thu, 06 Feb 2025) EndedAt: 2025-02-06 11:06:18 -0500 (Thu, 06 Feb 2025) EllapsedTime: 22.9 seconds RetCode: 0 Status: OK PackageFile: AshkenazimSonChr21_1.36.0.tar.gz PackageFileSize: 9.756 MiB