Package: AssessORFData Version: 1.24.0 Command: /home/biocbuild/bbs-3.20-bioc/R/bin/R CMD build --keep-empty-dirs --no-resave-data AssessORFData StartedAt: 2025-02-04 11:06:19 -0500 (Tue, 04 Feb 2025) EndedAt: 2025-02-04 11:07:53 -0500 (Tue, 04 Feb 2025) EllapsedTime: 93.7 seconds RetCode: 0 Status: OK PackageFile: AssessORFData_1.24.0.tar.gz PackageFileSize: 144.6 MiB