Package: AssessORFData Version: 1.24.0 Command: /home/biocbuild/bbs-3.20-bioc/R/bin/R CMD check --install=check:AssessORFData.install-out.txt --library=/home/biocbuild/bbs-3.20-bioc/R/site-library --timings AssessORFData_1.24.0.tar.gz StartedAt: 2025-02-04 11:44:22 -0500 (Tue, 04 Feb 2025) EndedAt: 2025-02-04 11:48:25 -0500 (Tue, 04 Feb 2025) EllapsedTime: 243.0 seconds RetCode: 1 Status: ERROR CheckDir: AssessORFData.Rcheck Warnings: NA