Package: AssessORFData Version: 1.24.0 Command: /home/biocbuild/bbs-3.20-bioc/R/bin/R CMD INSTALL AssessORFData StartedAt: 2025-02-04 10:56:36 -0500 (Tue, 04 Feb 2025) EndedAt: 2025-02-04 10:57:19 -0500 (Tue, 04 Feb 2025) EllapsedTime: 43.2 seconds RetCode: 0 Status: OK