Package: BeadArrayUseCases Version: 1.44.1 Maintainer: Mike Smith MaintainerEmail: grimbough at gmail.com git_url: https://git.bioconductor.org/packages/BeadArrayUseCases git_branch: RELEASE_3_20 git_last_commit: ea0832f git_last_commit_date: 2024-11-13 04:38:04 -0500 (Wed, 13 Nov 2024)