Package: BeadArrayUseCases Version: 1.44.1 Command: /home/biocbuild/bbs-3.20-bioc/R/bin/R CMD build --keep-empty-dirs --no-resave-data BeadArrayUseCases StartedAt: 2025-02-04 11:06:24 -0500 (Tue, 04 Feb 2025) EndedAt: 2025-02-04 11:13:36 -0500 (Tue, 04 Feb 2025) EllapsedTime: 431.3 seconds RetCode: 0 Status: OK PackageFile: BeadArrayUseCases_1.44.1.tar.gz PackageFileSize: 197.6 MiB