Package: BeadArrayUseCases Version: 1.44.1 Command: /home/biocbuild/bbs-3.20-bioc/R/bin/R CMD INSTALL BeadArrayUseCases StartedAt: 2025-02-04 11:00:14 -0500 (Tue, 04 Feb 2025) EndedAt: 2025-02-04 11:00:36 -0500 (Tue, 04 Feb 2025) EllapsedTime: 21.6 seconds RetCode: 0 Status: OK