Package: BioPlex Version: 1.12.0 Command: /home/biocbuild/bbs-3.20-bioc/R/bin/R CMD build --keep-empty-dirs --no-resave-data BioPlex StartedAt: 2025-01-30 11:06:58 -0500 (Thu, 30 Jan 2025) EndedAt: 2025-01-30 11:09:48 -0500 (Thu, 30 Jan 2025) EllapsedTime: 170.4 seconds RetCode: 0 Status: OK PackageFile: BioPlex_1.12.0.tar.gz PackageFileSize: 928.2 KiB