Package: BioPlex Version: 1.12.0 Command: /home/biocbuild/bbs-3.20-bioc/R/bin/R CMD INSTALL BioPlex StartedAt: 2025-01-30 10:59:22 -0500 (Thu, 30 Jan 2025) EndedAt: 2025-01-30 10:59:40 -0500 (Thu, 30 Jan 2025) EllapsedTime: 17.9 seconds RetCode: 0 Status: OK