Package: BloodCancerMultiOmics2017 Version: 1.26.0 Command: /home/biocbuild/bbs-3.20-bioc/R/bin/R CMD build --keep-empty-dirs --no-resave-data BloodCancerMultiOmics2017 StartedAt: 2025-02-11 11:06:55 -0500 (Tue, 11 Feb 2025) EndedAt: 2025-02-11 11:35:46 -0500 (Tue, 11 Feb 2025) EllapsedTime: 1731.2 seconds RetCode: 0 Status: OK PackageFile: BloodCancerMultiOmics2017_1.26.0.tar.gz PackageFileSize: 53.7 MiB