Package: CLL Version: 1.46.0 Command: /home/biocbuild/bbs-3.20-bioc/R/bin/R CMD INSTALL CLL StartedAt: 2025-01-30 10:56:14 -0500 (Thu, 30 Jan 2025) EndedAt: 2025-01-30 10:56:20 -0500 (Thu, 30 Jan 2025) EllapsedTime: 5.1 seconds RetCode: 0 Status: OK