Package: CLLmethylation Version: 1.26.0 Command: /home/biocbuild/bbs-3.20-bioc/R/bin/R CMD INSTALL CLLmethylation StartedAt: 2025-02-06 11:00:43 -0500 (Thu, 06 Feb 2025) EndedAt: 2025-02-06 11:00:59 -0500 (Thu, 06 Feb 2025) EllapsedTime: 16.7 seconds RetCode: 0 Status: OK