Package: COSMIC.67 Version: 1.42.0 Command: /home/biocbuild/bbs-3.20-bioc/R/bin/R CMD check --install=check:COSMIC.67.install-out.txt --library=/home/biocbuild/bbs-3.20-bioc/R/site-library --timings COSMIC.67_1.42.0.tar.gz StartedAt: 2025-02-06 11:52:04 -0500 (Thu, 06 Feb 2025) EndedAt: 2025-02-06 11:57:05 -0500 (Thu, 06 Feb 2025) EllapsedTime: 300.3 seconds RetCode: 0 Status: OK CheckDir: COSMIC.67.Rcheck Warnings: 0