Package: ChIPXpressData Version: 1.44.0 Maintainer: George Wu MaintainerEmail: gewu at jhsph.edu git_url: https://git.bioconductor.org/packages/ChIPXpressData git_branch: RELEASE_3_20 git_last_commit: 110da8b git_last_commit_date: 2024-10-29 09:35:05 -0500 (Tue, 29 Oct 2024)