Package: ChIPXpressData Version: 1.44.0 Command: /home/biocbuild/bbs-3.20-bioc/R/bin/R CMD INSTALL ChIPXpressData StartedAt: 2025-02-06 10:56:06 -0500 (Thu, 06 Feb 2025) EndedAt: 2025-02-06 10:56:49 -0500 (Thu, 06 Feb 2025) EllapsedTime: 42.2 seconds RetCode: 0 Status: OK