Package: ChIPexoQualExample Version: 1.30.0 Maintainer: Rene Welch MaintainerEmail: welch at stat.wisc.edu git_url: https://git.bioconductor.org/packages/ChIPexoQualExample git_branch: RELEASE_3_20 git_last_commit: 4b8f5c9 git_last_commit_date: 2024-10-29 09:46:48 -0500 (Tue, 29 Oct 2024)