Package: ChIPexoQualExample Version: 1.30.0 Command: /home/biocbuild/bbs-3.20-bioc/R/bin/R CMD check --install=check:ChIPexoQualExample.install-out.txt --library=/home/biocbuild/bbs-3.20-bioc/R/site-library --timings ChIPexoQualExample_1.30.0.tar.gz StartedAt: 2025-01-30 11:50:40 -0500 (Thu, 30 Jan 2025) EndedAt: 2025-01-30 11:51:01 -0500 (Thu, 30 Jan 2025) EllapsedTime: 20.3 seconds RetCode: 0 Status: OK CheckDir: ChIPexoQualExample.Rcheck Warnings: 0