Package: CluMSIDdata Version: 1.22.0 Command: /home/biocbuild/bbs-3.20-bioc/R/bin/R CMD build --keep-empty-dirs --no-resave-data CluMSIDdata StartedAt: 2025-02-06 11:08:42 -0500 (Thu, 06 Feb 2025) EndedAt: 2025-02-06 11:09:49 -0500 (Thu, 06 Feb 2025) EllapsedTime: 67.6 seconds RetCode: 0 Status: OK PackageFile: CluMSIDdata_1.22.0.tar.gz PackageFileSize: 47.27 MiB